BEGIN:VCALENDAR
VERSION:2.0
PRODID:-//Downtown Ventura - ECPv6.6.4.2//NONSGML v1.0//EN
CALSCALE:GREGORIAN
METHOD:PUBLISH
X-ORIGINAL-URL:https://downtownventura.org
X-WR-CALDESC:Events for Downtown Ventura
REFRESH-INTERVAL;VALUE=DURATION:PT1H
X-Robots-Tag:noindex
X-PUBLISHED-TTL:PT1H
BEGIN:VTIMEZONE
TZID:America/Los_Angeles
BEGIN:DAYLIGHT
TZOFFSETFROM:-0800
TZOFFSETTO:-0700
TZNAME:PDT
DTSTART:20260308T100000
END:DAYLIGHT
BEGIN:STANDARD
TZOFFSETFROM:-0700
TZOFFSETTO:-0800
TZNAME:PST
DTSTART:20261101T090000
END:STANDARD
END:VTIMEZONE
BEGIN:VEVENT
DTSTART;TZID=America/Los_Angeles:20260618T080000
DTEND;TZID=America/Los_Angeles:20260618T170000
DTSTAMP:20260424T080300
CREATED:20260422T223851Z
LAST-MODIFIED:20260422T223851Z
UID:10003269-1781769600-1781802000@downtownventura.org
SUMMARY:New Art City Theatre Festival '26
DESCRIPTION:A Festival of New Works for the Stage. 4 Days. 4 Plays. 4 Free. A different play will be featured each day with staged readings in the afternoon and evening. Admission is free. Audience talkback sessions follow each reading providing the opportunity to meet the writers and actors.
URL:https://downtownventura.org/event/new-art-city-theatre-festival-26/2026-06-18/
LOCATION:Knights of Columbus Hall\, 36 Figueroa Street\, Ventura\, CA\, 93001\, United States
ATTACH;FMTTYPE=image/jpeg:https://downtownventura.org/wp-content/uploads/2026/04/NACT-sq.jpg
GEO:34.280339;-119.297355
X-APPLE-STRUCTURED-LOCATION;VALUE=URI;X-ADDRESS=Knights of Columbus Hall 36 Figueroa Street Ventura CA 93001 United States;X-APPLE-RADIUS=500;X-TITLE=36 Figueroa Street:geo:-119.297355,34.280339
END:VEVENT
END:VCALENDAR