BEGIN:VCALENDAR
VERSION:2.0
PRODID:-//Downtown Ventura - ECPv6.6.4.2//NONSGML v1.0//EN
CALSCALE:GREGORIAN
METHOD:PUBLISH
X-WR-CALNAME:Downtown Ventura
X-ORIGINAL-URL:https://downtownventura.org
X-WR-CALDESC:Events for Downtown Ventura
REFRESH-INTERVAL;VALUE=DURATION:PT1H
X-Robots-Tag:noindex
X-PUBLISHED-TTL:PT1H
BEGIN:VTIMEZONE
TZID:America/Los_Angeles
BEGIN:DAYLIGHT
TZOFFSETFROM:-0800
TZOFFSETTO:-0700
TZNAME:PDT
DTSTART:20260308T100000
END:DAYLIGHT
BEGIN:STANDARD
TZOFFSETFROM:-0700
TZOFFSETTO:-0800
TZNAME:PST
DTSTART:20261101T090000
END:STANDARD
END:VTIMEZONE
BEGIN:VEVENT
DTSTART;TZID=America/Los_Angeles:20260423T110000
DTEND;TZID=America/Los_Angeles:20260423T180000
DTSTAMP:20260421T201506
CREATED:20250207T002601Z
LAST-MODIFIED:20250207T002755Z
UID:10002512-1776942000-1776967200@downtownventura.org
SUMMARY:"Nature's Aura" with Robert Wassell
DESCRIPTION:Come enjoy breathtaking works by local artist Robert Wassell at Fox Fine Jewelry.
URL:https://downtownventura.org/event/natures-aura-with-robert-wassell/2026-04-23/
LOCATION:Fox Fine Jewelry\, 560 East Main Street\, Ventura\, CA\, 93001\, United States
ATTACH;FMTTYPE=image/jpeg:https://downtownventura.org/wp-content/uploads/2025/02/ptng_1514up-1.jpg
GEO:34.2805221;-119.2922229
X-APPLE-STRUCTURED-LOCATION;VALUE=URI;X-ADDRESS=Fox Fine Jewelry 560 East Main Street Ventura CA 93001 United States;X-APPLE-RADIUS=500;X-TITLE=560 East Main Street:geo:-119.2922229,34.2805221
END:VEVENT
BEGIN:VEVENT
DTSTART;TZID=America/Los_Angeles:20260423T110000
DTEND;TZID=America/Los_Angeles:20260423T180000
DTSTAMP:20260421T201506
CREATED:20260228T211430Z
LAST-MODIFIED:20260228T211430Z
UID:10003140-1776942000-1776967200@downtownventura.org
SUMMARY:"Rediscovering" wtih Lisa Sachs and Thomas Hoerber
DESCRIPTION:Come enjoy breathtaking works by local artists Lisa Sachs and Thomas Hoerber at Fox Fine Jewelry.
URL:https://downtownventura.org/event/rediscovering-wtih-lisa-sachs-and-thomas-hoerber/2026-04-23/
LOCATION:Fox Fine Jewelry\, 560 East Main Street\, Ventura\, CA\, 93001\, United States
ATTACH;FMTTYPE=image/jpeg:https://downtownventura.org/wp-content/uploads/2026/02/Rediscovering_V3.jpg
GEO:34.2805221;-119.2922229
X-APPLE-STRUCTURED-LOCATION;VALUE=URI;X-ADDRESS=Fox Fine Jewelry 560 East Main Street Ventura CA 93001 United States;X-APPLE-RADIUS=500;X-TITLE=560 East Main Street:geo:-119.2922229,34.2805221
END:VEVENT
BEGIN:VEVENT
DTSTART;TZID=America/Los_Angeles:20260423T180000
DTEND;TZID=America/Los_Angeles:20260423T193000
DTSTAMP:20260421T201506
CREATED:20260220T003944Z
LAST-MODIFIED:20260220T003944Z
UID:10003121-1776967200-1776972600@downtownventura.org
SUMMARY:Rolling Cerros Run Club
DESCRIPTION:Meet at the Downtown Mission (208 E Main St) Thursdays at 6pm. \n  \n 
URL:https://downtownventura.org/event/rolling-cerros-run-club/2026-04-23/
LOCATION:In front of the San Buenaventura Mission\, 211 East Main Street\, Ventura\, CA\, 93001\, United States
ATTACH;FMTTYPE=image/png:https://downtownventura.org/wp-content/uploads/2026/02/Untitled-design-1-copy-scaled.png
GEO:34.2812335;-119.2982408
X-APPLE-STRUCTURED-LOCATION;VALUE=URI;X-ADDRESS=In front of the San Buenaventura Mission 211 East Main Street Ventura CA 93001 United States;X-APPLE-RADIUS=500;X-TITLE=211 East Main Street:geo:-119.2982408,34.2812335
END:VEVENT
BEGIN:VEVENT
DTSTART;TZID=America/Los_Angeles:20260425T133000
DTEND;TZID=America/Los_Angeles:20260425T170000
DTSTAMP:20260421T201506
CREATED:20260310T232326Z
LAST-MODIFIED:20260327T233501Z
UID:10003157-1777123800-1777136400@downtownventura.org
SUMMARY:Downtown Ventura Mini Golf Challenge
DESCRIPTION:Don’t miss this! Eighteen Downtown Ventura establishments will feature custom-designed mini golf holes\, creating a one-of-a-kind course that spans Main Street\, between the 200-600 block closure on Saturday\, April 25 beginning at 1:30pm (check-in). The event benefits the Teddy Bear Cancer Foundation. Register here!
URL:https://downtownventura.org/event/downtown-ventura-mini-golf-challenge/
LOCATION:Downtown Main Street\, Ventura\, CA\, 93001\, United States
ATTACH;FMTTYPE=image/jpeg:https://downtownventura.org/wp-content/uploads/2026/03/Downtown-Ventura-Mini-Golf-Challenge.jpg
GEO:34.280819;-119.293124
END:VEVENT
BEGIN:VEVENT
DTSTART;TZID=America/Los_Angeles:20260426T120000
DTEND;TZID=America/Los_Angeles:20260426T160000
DTSTAMP:20260421T201506
CREATED:20260322T205737Z
LAST-MODIFIED:20260322T205737Z
UID:10003171-1777204800-1777219200@downtownventura.org
SUMMARY:Ema's Herbs Spring Fair
DESCRIPTION:Join us for an afternoon of fun\, community\, and joy to celebrate Spring! We’ll be hosting an inspiring array of vendors\, readers\, and artists throughout our patio and shop. Come gather in community\, explore beautiful handmade gifts\, grab a matcha & a sweet treat\, and enjoy a reading or two! \nFree entry! Each vendor will have their own unique fees. \nRSVP here: https://www.eventbrite.com/e/emas-herbs-spring-fair-tickets-1985612898631?aff=oddtdtcreator&keep_tld=true
URL:https://downtownventura.org/event/emas-herbs-spring-fair/
LOCATION:Ema’s Herbs\, 695 E Main St\, Ventura\, 93001\, United States
ATTACH;FMTTYPE=image/png:https://downtownventura.org/wp-content/uploads/2026/03/April-26th-Spring-Fair-2026.png
END:VEVENT
BEGIN:VEVENT
DTSTART;TZID=America/Los_Angeles:20260428T173000
DTEND;TZID=America/Los_Angeles:20260428T193000
DTSTAMP:20260421T201506
CREATED:20260304T022417Z
LAST-MODIFIED:20260304T022417Z
UID:10003156-1777397400-1777404600@downtownventura.org
SUMMARY:Main Character Walk
DESCRIPTION:?M?ark your calendars! Join us for ?o?ur second (monthly!) Main Character Walk in Downtown. ?Meetup? with us ?T?uesday\, April 28 at 5?:30pm. Grab your earbuds\, download your favorite audiobook\, and break out your walking shoes as we walk and listen to books together. \n5?:30pm – Meet us at Smitten Bookstore\nHang out with us after at ?Ventura Coast Brewing Co. \nDon’t have an audiobook cued up? Find your next audiobook using this link! Add Smitten as your bookstore and proceeds go back to them!
URL:https://downtownventura.org/event/main-character-walk-3/
LOCATION:Smitten\, 365 E Main St\, Ventura\, CA\, 93001\, United States
ATTACH;FMTTYPE=image/png:https://downtownventura.org/wp-content/uploads/2026/03/DVP-HGW-April-28-scaled.png
END:VEVENT
BEGIN:VEVENT
DTSTART;TZID=America/Los_Angeles:20260429T170000
DTEND;TZID=America/Los_Angeles:20260429T210000
DTSTAMP:20260421T201506
CREATED:20260322T213454Z
LAST-MODIFIED:20260322T213454Z
UID:10003237-1777482000-1777496400@downtownventura.org
SUMMARY:Rollin' Ventura - Free Community Roller Skating Event
DESCRIPTION:Join us for Rollin’ Ventura\, a FREE\, community event Wednesday\, April 29 from 5pm-9pm on S. Oak Street in Downtown Ventura! \nWho: ALL ages \nWhat: Roller skating\, music\, and fun \nWhen: Wednesday\, April 29 from 5pm-9pm \nWhere: S. Oak Street in Downtown Ventura \nCost: FREE event with free skate rentals \nWhy: Free\, fun\, community event kicking off the Jackalope Block Party Weekend May 1-3
URL:https://downtownventura.org/event/rollin-ventura-free-community-roller-skating-event/
LOCATION:S. Oak St.\, Ventura\, CA\, 93001\, United States
ATTACH;FMTTYPE=image/png:https://downtownventura.org/wp-content/uploads/2026/03/DVP-Rollin-Ventura-scaled.png
GEO:34.274646;-119.2290316
END:VEVENT
BEGIN:VEVENT
DTSTART;TZID=America/Los_Angeles:20260501T080000
DTEND;TZID=America/Los_Angeles:20260501T170000
DTSTAMP:20260421T201506
CREATED:20260207T025450Z
LAST-MODIFIED:20260207T025450Z
UID:10003100-1777622400-1777654800@downtownventura.org
SUMMARY:JACKALOPE Block Party
DESCRIPTION:The JACKALOPE Block Party is coming in May 2026. It’s a full-on celebration of skateboarding and good vibes. Watch pros and local skaters compete on a world class Vert ramp for a cash prize—and a shot to compete in Virginia Beach\, VA. Enjoy live DJ sets\, cool pop-ups\, and one-of-a-kind experiences. Whether you’re a pro or just love to skate\, you’re welcome to join. Skaters can sign up to compete when registration opens in spring 2026. Don’t miss this epic weekend. Stay tuned or check the official site for updates!
URL:https://downtownventura.org/event/jackalope-block-party/2026-05-01/
LOCATION:Downtown Ventura\, Ventura\, CA\, 93001\, United States
ATTACH;FMTTYPE=image/webp:https://downtownventura.org/wp-content/uploads/2026/02/jackalope-block-party-vert-ramp-2-e1748470681396.webp
GEO:34.280819;-119.293124
END:VEVENT
BEGIN:VEVENT
DTSTART;TZID=America/Los_Angeles:20260507T183000
DTEND;TZID=America/Los_Angeles:20260507T203000
DTSTAMP:20260421T201506
CREATED:20260330T135355Z
LAST-MODIFIED:20260330T135355Z
UID:10003239-1778178600-1778185800@downtownventura.org
SUMMARY:Herbal Spa Night with Emily Watson
DESCRIPTION:Join Artemisia Academy’s founder\, Emily Watson\, for an evening herbal spa date! Indulge in a night of relaxation\, connection\, and herbal self-care! In this hands-on workshop\, you and your loved one will learn how to create your own herbal spa treatments\, including a soothing facial steam\, a face scrub\, and a nourishing herbal mask. Leave the evening feeling refreshed and glowing\, with your very own handmade spa kit to continue the self-care at home. A perfect way to celebrate Mother’s Day or spend some quality time with loved ones or yourself! \n$45 per ticket or $80 for 2 tickets\nPlease purchase tickets through Eventbrite here:\nhttps://www.eventbrite.com/e/herbal-spa-night-with-emily-watson-tickets-1985846613679?aff=oddtdtcreator&keep_tld=true
URL:https://downtownventura.org/event/herbal-spa-night-with-emily-watson/
LOCATION:Ema’s Herbs\, 695 E Main St\, Ventura\, 93001\, United States
ATTACH;FMTTYPE=image/png:https://downtownventura.org/wp-content/uploads/2026/03/May-7th-630pm-Emily-Watson-Mothers-Day-Event.png
END:VEVENT
BEGIN:VEVENT
DTSTART;TZID=America/Los_Angeles:20260509T100000
DTEND;TZID=America/Los_Angeles:20260509T170000
DTSTAMP:20260421T201506
CREATED:20260415T015319Z
LAST-MODIFIED:20260415T015319Z
UID:10003261-1778320800-1778346000@downtownventura.org
SUMMARY:Findings Market Spring Fair
DESCRIPTION:Findings Market Spring Fair \nMay 9th 10am-5pm \nThe Findings Market Spring Fair is back in Downtown Ventura! Join us on S. Oak St. for a fun-filled day featuring over 100 makers\, creatives\, and merchants. Enjoy live music\, delicious food and drinks\, and fun activities for all ages. Family and pet-friendly\, best of all\, it’s FREE to attend! It’s a full day of fun and we can’t wait to see you there!
URL:https://downtownventura.org/event/findings-market-spring-fair/
LOCATION:S. Oak St.\, Ventura\, CA\, 93001\, United States
ATTACH;FMTTYPE=image/png:https://downtownventura.org/wp-content/uploads/2026/04/Heading.png
GEO:34.274646;-119.2290316
END:VEVENT
BEGIN:VEVENT
DTSTART;TZID=America/Los_Angeles:20260510T093000
DTEND;TZID=America/Los_Angeles:20260510T103000
DTSTAMP:20260421T201506
CREATED:20260330T135909Z
LAST-MODIFIED:20260330T135909Z
UID:10003251-1778405400-1778409000@downtownventura.org
SUMMARY:Stretch & Restore Yoga with Chrissy Graham
DESCRIPTION:Join us for Mother’s Day yoga at Ema’s Herbs! This class will consist of a blend of gentle to moderate yoga poses suitable for all levels. We will focus on stretching and poses designed to help develop greater physical mobility. Each class will finish with relaxation through breath and a restful pose to rejuvenate the mind and body. Please bring a yoga mat and a strap if you have one. \n$20 Class\nPlease purchase tickets through Eventbrite here:\nhttps://www.eventbrite.com/e/stretch-restore-yoga-with-chrissy-graham-tickets-1986096794978?aff=oddtdtcreator
URL:https://downtownventura.org/event/stretch-restore-yoga-with-chrissy-graham-3/
LOCATION:Ema’s Herbs\, 695 E Main St\, Ventura\, 93001\, United States
ATTACH;FMTTYPE=image/png:https://downtownventura.org/wp-content/uploads/2026/03/May-10th-Yoga-with-Chrissy.png
END:VEVENT
BEGIN:VEVENT
DTSTART;TZID=America/Los_Angeles:20260510T110000
DTEND;TZID=America/Los_Angeles:20260510T130000
DTSTAMP:20260421T201506
CREATED:20260330T135509Z
LAST-MODIFIED:20260330T135509Z
UID:10003240-1778410800-1778418000@downtownventura.org
SUMMARY:Craft Your Own Driftwood Succulent Arrangement with Sheree Millhollin
DESCRIPTION:In this hands-on workshop\, each participant will select a unique piece of locally sourced Ventura driftwood and transform it into a living work of art. Using moss\, succulents\, and natural textures\, you’ll create a beautiful driftwood arrangement that captures the coastal spirit of Ventura. A variety of embellishments will also be available so you can personalize your piece and make your creative masterpiece truly your own. \nTickets are $45\nPlease purchase tickets through Eventbrite here:\nhttps://www.eventbrite.com/e/craft-your-own-driftwood-succulent-arrangement-with-sheree-millhollin-tickets-1985867572367?aff=oddtdtcreator&keep_tld=true
URL:https://downtownventura.org/event/craft-your-own-driftwood-succulent-arrangement-with-sheree-millhollin/
LOCATION:Ema’s Herbs\, 695 E Main St\, Ventura\, 93001\, United States
ATTACH;FMTTYPE=image/png:https://downtownventura.org/wp-content/uploads/2026/03/May-10th-11am-Sheree-Millhollin.png
END:VEVENT
BEGIN:VEVENT
DTSTART;TZID=America/Los_Angeles:20260514T190000
DTEND;TZID=America/Los_Angeles:20260514T230000
DTSTAMP:20260421T201506
CREATED:20260406T163253Z
LAST-MODIFIED:20260406T163253Z
UID:10003258-1778785200-1778799600@downtownventura.org
SUMMARY:Whitey Morgan and the 78s
DESCRIPTION:Whitey Morgan and the 78s are bringing their country tunes to Ventura! Get your tickets now before they are gone.
URL:https://downtownventura.org/event/whitey-morgan-and-the-78s/
LOCATION:Majestic Ventura Theater\, 26 South Chestnut Street\, Ventura\, CA\, 93001\, United States
ATTACH;FMTTYPE=image/png:https://downtownventura.org/wp-content/uploads/2026/04/1x1.png
GEO:34.2805455;-119.291358
X-APPLE-STRUCTURED-LOCATION;VALUE=URI;X-ADDRESS=Majestic Ventura Theater 26 South Chestnut Street Ventura CA 93001 United States;X-APPLE-RADIUS=500;X-TITLE=26 South Chestnut Street:geo:-119.291358,34.2805455
END:VEVENT
BEGIN:VEVENT
DTSTART;TZID=America/Los_Angeles:20260517T120000
DTEND;TZID=America/Los_Angeles:20260517T133000
DTSTAMP:20260421T201506
CREATED:20260415T024057Z
LAST-MODIFIED:20260415T024057Z
UID:10003262-1779019200-1779024600@downtownventura.org
SUMMARY:Energy Protection Workshop with Alana Sheeren
DESCRIPTION:Whether you’re aware of it or not\, you’re constantly absorbing energy. Over time\, this unseen buildup can cloud your clarity\, drain your energy\, and leave you feeling “off” without knowing why. In this workshop\, we’ll explore powerful tools to clear energetic clutter\, release what’s not yours\, and create strong\, intuitive boundaries that actually hold. \nTickets are $20\nPlease purchase tickets through Eventbrite here:\nhttps://www.eventbrite.com/e/energy-protection-workshop-with-alana-sheeren-tickets-1986933834586?aff=oddtdtcreator
URL:https://downtownventura.org/event/energy-protection-workshop-with-alana-sheeren/
LOCATION:Ema’s Herbs\, 695 E Main St\, Ventura\, 93001\, United States
ATTACH;FMTTYPE=image/png:https://downtownventura.org/wp-content/uploads/2026/04/May-17th-12pm-Alana-Sheeren.png
END:VEVENT
BEGIN:VEVENT
DTSTART;TZID=America/Los_Angeles:20260523T190000
DTEND;TZID=America/Los_Angeles:20260523T230000
DTSTAMP:20260421T201506
CREATED:20260406T162806Z
LAST-MODIFIED:20260406T162901Z
UID:10003255-1779562800-1779577200@downtownventura.org
SUMMARY:The Circle Jerks Night 2
DESCRIPTION:The Circle Jerks with Gorilla Biscuits and 7 Seconds are jamming out for a second night! Tickets are available get them before they are gone!
URL:https://downtownventura.org/event/the-circle-jerks-night-2/
LOCATION:Majestic Ventura Theater\, 26 South Chestnut Street\, Ventura\, CA\, 93001\, United States
ATTACH;FMTTYPE=image/jpeg:https://downtownventura.org/wp-content/uploads/2026/04/cj_ventura_square.jpg
GEO:34.2805455;-119.291358
X-APPLE-STRUCTURED-LOCATION;VALUE=URI;X-ADDRESS=Majestic Ventura Theater 26 South Chestnut Street Ventura CA 93001 United States;X-APPLE-RADIUS=500;X-TITLE=26 South Chestnut Street:geo:-119.291358,34.2805455
END:VEVENT
BEGIN:VEVENT
DTSTART;TZID=America/Los_Angeles:20260607T080000
DTEND;TZID=America/Los_Angeles:20260607T170000
DTSTAMP:20260421T201506
CREATED:20260228T210947Z
LAST-MODIFIED:20260228T210947Z
UID:10003136-1780819200-1780851600@downtownventura.org
SUMMARY:Patchwork Show Maker's Market & Community Festival
DESCRIPTION:Shop handmade and local goods from local makers at Patchwork Show. FREE to attend\, family-friendly\, and pet friendly! Shows feature local makers\, a Junior section for young creatives\, music\, food\, DIY craft activities and more!
URL:https://downtownventura.org/event/patchwork-show-makers-market-community-festival/
LOCATION:California & Main\, 494 E Main St\, Ventura\, CA\, 93001\, United States
ATTACH;FMTTYPE=image/png:https://downtownventura.org/wp-content/uploads/2026/02/PWSpringPoster.png
GEO:34.2807135;-119.2933356
X-APPLE-STRUCTURED-LOCATION;VALUE=URI;X-ADDRESS=California & Main 494 E Main St Ventura CA 93001 United States;X-APPLE-RADIUS=500;X-TITLE=494 E Main St:geo:-119.2933356,34.2807135
END:VEVENT
BEGIN:VEVENT
DTSTART;TZID=America/Los_Angeles:20260611T190000
DTEND;TZID=America/Los_Angeles:20260611T230000
DTSTAMP:20260421T201506
CREATED:20260406T162624Z
LAST-MODIFIED:20260406T162624Z
UID:10003254-1781204400-1781218800@downtownventura.org
SUMMARY:The Crane Wives
DESCRIPTION:The Crane Wives are bringing their tunes to Ventura on June 11th. Get your tickets now!
URL:https://downtownventura.org/event/the-crane-wives/
LOCATION:Majestic Ventura Theater\, 26 South Chestnut Street\, Ventura\, CA\, 93001\, United States
ATTACH;FMTTYPE=image/jpeg:https://downtownventura.org/wp-content/uploads/2026/04/CWAct2Venue-Flyer-SIMPLE-scaled.jpg
GEO:34.2805455;-119.291358
X-APPLE-STRUCTURED-LOCATION;VALUE=URI;X-ADDRESS=Majestic Ventura Theater 26 South Chestnut Street Ventura CA 93001 United States;X-APPLE-RADIUS=500;X-TITLE=26 South Chestnut Street:geo:-119.291358,34.2805455
END:VEVENT
BEGIN:VEVENT
DTSTART;VALUE=DATE:20260613
DTEND;VALUE=DATE:20260614
DTSTAMP:20260421T201506
CREATED:20260220T002945Z
LAST-MODIFIED:20260220T002945Z
UID:10003111-1781308800-1781395199@downtownventura.org
SUMMARY:Bike the Coast Ventura
DESCRIPTION:Bike the Coast includes a course and experience for riders of all levels. You can challenge yourself with thr Metric Century (65-Mile Ride)\, touring the remarkable coastline of Central California and some hills of neighboring cities; you can enjoy pure and constant ocean views on the 35-mile ride or the ever-popular 17-mile family ride.  All courses will be stocked with fun SAG locations for your rest and nourishment. “Come for the Ride – Stay for the Party” as they hang around to share stories and enjoy the Beer Garden\, benefiting MS Society.
URL:https://downtownventura.org/event/bike-the-coast-ventura/
LOCATION:promenade park\, ventura\, 93001\, United States
ATTACH;FMTTYPE=image/png:https://downtownventura.org/wp-content/uploads/2026/02/genericImage-websiteLogo-268991-1765431998.5055-0.bPoLQ-.png
GEO:34.2769462;-119.2769253
END:VEVENT
BEGIN:VEVENT
DTSTART;TZID=America/Los_Angeles:20260626T190000
DTEND;TZID=America/Los_Angeles:20260626T230000
DTSTAMP:20260421T201506
CREATED:20260406T162239Z
LAST-MODIFIED:20260406T162239Z
UID:10003252-1782500400-1782514800@downtownventura.org
SUMMARY:Buckethead at Majestic Ventura Theater
DESCRIPTION:Buckethead is hitting the stage on June 26th. Get your tickets now!
URL:https://downtownventura.org/event/buckethead-at-majestic-ventura-theater/
LOCATION:Majestic Ventura Theater\, 26 South Chestnut Street\, Ventura\, CA\, 93001\, United States
ATTACH;FMTTYPE=image/jpeg:https://downtownventura.org/wp-content/uploads/2026/04/BH-1080x1080-1.jpg
GEO:34.2805455;-119.291358
X-APPLE-STRUCTURED-LOCATION;VALUE=URI;X-ADDRESS=Majestic Ventura Theater 26 South Chestnut Street Ventura CA 93001 United States;X-APPLE-RADIUS=500;X-TITLE=26 South Chestnut Street:geo:-119.291358,34.2805455
END:VEVENT
BEGIN:VEVENT
DTSTART;TZID=America/Los_Angeles:20260716T080000
DTEND;TZID=America/Los_Angeles:20260716T170000
DTSTAMP:20260421T201506
CREATED:20260322T205920Z
LAST-MODIFIED:20260322T205920Z
UID:10003172-1784188800-1784221200@downtownventura.org
SUMMARY:"Collage Lab" by The Collage Lab Artist Group
DESCRIPTION:Come enjoy breathtaking works by local artists from the Collage Lab at Fox Fine Jewelry.
URL:https://downtownventura.org/event/collage-lab-by-the-collage-lab-artist-group/2026-07-16/
LOCATION:Ema’s Herbs\, 695 E Main St\, Ventura\, 93001\, United States
ATTACH;FMTTYPE=image/jpeg:https://downtownventura.org/wp-content/uploads/2026/03/Finding-Creative-Harmony-Collage-Lab-Fox-2026-2.jpg
END:VEVENT
BEGIN:VEVENT
DTSTART;TZID=America/Los_Angeles:20260717T190000
DTEND;TZID=America/Los_Angeles:20260717T230000
DTSTAMP:20260421T201506
CREATED:20260406T163032Z
LAST-MODIFIED:20260406T163032Z
UID:10003256-1784314800-1784329200@downtownventura.org
SUMMARY:George Lopez at Majestic Ventura Theater
DESCRIPTION:George Lopez is bringing his standup to Ventura! One night only\, get your tickets before they are gone!
URL:https://downtownventura.org/event/george-lopez-at-majestic-ventura-theater/
LOCATION:Majestic Ventura Theater\, 26 South Chestnut Street\, Ventura\, CA\, 93001\, United States
ATTACH;FMTTYPE=image/jpeg:https://downtownventura.org/wp-content/uploads/2026/04/GL-1080x1080-1.jpg
GEO:34.2805455;-119.291358
X-APPLE-STRUCTURED-LOCATION;VALUE=URI;X-ADDRESS=Majestic Ventura Theater 26 South Chestnut Street Ventura CA 93001 United States;X-APPLE-RADIUS=500;X-TITLE=26 South Chestnut Street:geo:-119.291358,34.2805455
END:VEVENT
BEGIN:VEVENT
DTSTART;TZID=America/Los_Angeles:20260814T190000
DTEND;TZID=America/Los_Angeles:20260814T230000
DTSTAMP:20260421T201506
CREATED:20260406T163143Z
LAST-MODIFIED:20260406T163143Z
UID:10003257-1786734000-1786748400@downtownventura.org
SUMMARY:Steel Pulse at Majestic Ventura Theater
DESCRIPTION:Steel Pulse is bringing their Reggae Against Racism Tour to Ventura! Aug 14th will be a night you don’t want to miss. Get your tickets now!
URL:https://downtownventura.org/event/steel-pulse-at-majestic-ventura-theater/
LOCATION:Majestic Ventura Theater\, 26 South Chestnut Street\, Ventura\, CA\, 93001\, United States
ATTACH;FMTTYPE=image/jpeg:https://downtownventura.org/wp-content/uploads/2026/04/MVT-SPFINAL.jpg
GEO:34.2805455;-119.291358
X-APPLE-STRUCTURED-LOCATION;VALUE=URI;X-ADDRESS=Majestic Ventura Theater 26 South Chestnut Street Ventura CA 93001 United States;X-APPLE-RADIUS=500;X-TITLE=26 South Chestnut Street:geo:-119.291358,34.2805455
END:VEVENT
END:VCALENDAR